BEGIN:VCALENDAR
VERSION:2.0
PRODID:-//Niagara Knowledge Exchange - ECPv6.15.20//NONSGML v1.0//EN
CALSCALE:GREGORIAN
METHOD:PUBLISH
X-WR-CALNAME:Niagara Knowledge Exchange
X-ORIGINAL-URL:http://www.niagaraknowledgeexchange.com
X-WR-CALDESC:Events for Niagara Knowledge Exchange
REFRESH-INTERVAL;VALUE=DURATION:PT1H
X-Robots-Tag:noindex
X-PUBLISHED-TTL:PT1H
BEGIN:VTIMEZONE
TZID:America/Toronto
BEGIN:DAYLIGHT
TZOFFSETFROM:-0500
TZOFFSETTO:-0400
TZNAME:EDT
DTSTART:20250309T070000
END:DAYLIGHT
BEGIN:STANDARD
TZOFFSETFROM:-0400
TZOFFSETTO:-0500
TZNAME:EST
DTSTART:20251102T060000
END:STANDARD
BEGIN:DAYLIGHT
TZOFFSETFROM:-0500
TZOFFSETTO:-0400
TZNAME:EDT
DTSTART:20260308T070000
END:DAYLIGHT
BEGIN:STANDARD
TZOFFSETFROM:-0400
TZOFFSETTO:-0500
TZNAME:EST
DTSTART:20261101T060000
END:STANDARD
BEGIN:DAYLIGHT
TZOFFSETFROM:-0500
TZOFFSETTO:-0400
TZNAME:EDT
DTSTART:20270314T070000
END:DAYLIGHT
BEGIN:STANDARD
TZOFFSETFROM:-0400
TZOFFSETTO:-0500
TZNAME:EST
DTSTART:20271107T060000
END:STANDARD
END:VTIMEZONE
BEGIN:VEVENT
DTSTART;VALUE=DATE:20260101
DTEND;VALUE=DATE:20260401
DTSTAMP:20260422T144216
CREATED:20260101T170602Z
LAST-MODIFIED:20260131T231032Z
UID:23832-1767225600-1775001599@www.niagaraknowledgeexchange.com
SUMMARY:Neighbourhood Micro Grants - City of St. Catharines Deadline
DESCRIPTION:The Neighbourhood Micro Grants pilot project seeks to support grassroots initiatives within the City of St. Catharines that aim to improve the social\, economic\, and cultural well-being of local neighbourhoods. \nAll projects supported through this program must be free and accessible\, hosted at a city-owned park or facility\, and be either a one-time event or a series of events taking place within a maximum of a one-month period. \nApproved applicants may be awarded between $500 and $1\,500 per project. The grant awarded to each applicant is at the discretion of the Special Event Fee Reduction Task Force. \nHow to Apply \nApplications for projects taking place between June 1\, 2026\, and Nov. 30\, 2026\, will be accepted from Jan. 1\, 2026\, to March 31\, 2026 \nApply beginning Jan. 1\, 2026: https://www.stcatharines.ca/en/applications-licences-and-permits/neighbourhood-micro-grants.aspx
URL:http://www.niagaraknowledgeexchange.com/event/neighbourhood-micro-grants-city-of-st-catharines/
LOCATION:Ontario
CATEGORIES:Giving & Leadership
END:VEVENT
BEGIN:VEVENT
DTSTART;VALUE=DATE:20260301
DTEND;VALUE=DATE:20260401
DTSTAMP:20260422T144216
CREATED:20260217T152007Z
LAST-MODIFIED:20260217T152007Z
UID:23910-1772323200-1775001599@www.niagaraknowledgeexchange.com
SUMMARY:TCAG's 50/50 Raffle
DESCRIPTION:Community shouldn’t come at a cost. You can take home half the pot while helping children and families in Niagara. Funds raised through this raffle will support sport and recreation programs that benefit children\, youth and families\, food security initiatives\, subsidy for camp and childcare\, and more. Thank you for your support – we couldn’t help our community without you!
URL:http://www.niagaraknowledgeexchange.com/event/tcags-50-50-raffle/
LOCATION:Ontario
CATEGORIES:Giving & Leadership
END:VEVENT
BEGIN:VEVENT
DTSTART;TZID=America/Toronto:20260325T190000
DTEND;TZID=America/Toronto:20260513T190000
DTSTAMP:20260422T144216
CREATED:20260305T223036Z
LAST-MODIFIED:20260306T223835Z
UID:23988-1774465200-1778698800@www.niagaraknowledgeexchange.com
SUMMARY:Performance Pendulum: Leadership Program
DESCRIPTION:This leadership program is designed to support skill development and capability across the eight requirements outlined in the Performance Pendulum™ framework. \nIdeal for: \n\nCurrent and emerging CEOs and Executive Directors\nHigh-potential social profit leaders looking to grow\n\nThis online program delivers: \n\nSector-specific insight\nActionable tools\nOpportunities for individual prioritization\, reflection and group discussion\n\nUpcoming Program Schedule: \n\nWednesday evenings at 7pm EST from March 25 – May 13\, 2026\n\nInvestment: \n\n$1\,600 CDN per person\, plus HST\n3-4 hours weekly time commitment including online sessions
URL:http://www.niagaraknowledgeexchange.com/event/performance-pendulum-leadership-program/
LOCATION:Online
CATEGORIES:Giving & Leadership,Learning & Education,Work & Employment
END:VEVENT
END:VCALENDAR