BEGIN:VCALENDAR
VERSION:2.0
PRODID:-//Niagara Knowledge Exchange - ECPv6.15.20//NONSGML v1.0//EN
CALSCALE:GREGORIAN
METHOD:PUBLISH
X-ORIGINAL-URL:https://www.niagaraknowledgeexchange.com
X-WR-CALDESC:Events for Niagara Knowledge Exchange
REFRESH-INTERVAL;VALUE=DURATION:PT1H
X-Robots-Tag:noindex
X-PUBLISHED-TTL:PT1H
BEGIN:VTIMEZONE
TZID:America/Toronto
BEGIN:DAYLIGHT
TZOFFSETFROM:-0500
TZOFFSETTO:-0400
TZNAME:EDT
DTSTART:20240310T070000
END:DAYLIGHT
BEGIN:STANDARD
TZOFFSETFROM:-0400
TZOFFSETTO:-0500
TZNAME:EST
DTSTART:20241103T060000
END:STANDARD
BEGIN:DAYLIGHT
TZOFFSETFROM:-0500
TZOFFSETTO:-0400
TZNAME:EDT
DTSTART:20250309T070000
END:DAYLIGHT
BEGIN:STANDARD
TZOFFSETFROM:-0400
TZOFFSETTO:-0500
TZNAME:EST
DTSTART:20251102T060000
END:STANDARD
BEGIN:DAYLIGHT
TZOFFSETFROM:-0500
TZOFFSETTO:-0400
TZNAME:EDT
DTSTART:20260308T070000
END:DAYLIGHT
BEGIN:STANDARD
TZOFFSETFROM:-0400
TZOFFSETTO:-0500
TZNAME:EST
DTSTART:20261101T060000
END:STANDARD
END:VTIMEZONE
BEGIN:VEVENT
DTSTART;TZID=America/Toronto:20251218T163000
DTEND;TZID=America/Toronto:20251218T200000
DTSTAMP:20260423T140211
CREATED:20251209T155902Z
LAST-MODIFIED:20251209T155902Z
UID:23774-1766075400-1766088000@www.niagaraknowledgeexchange.com
SUMMARY:Downtown St. Catharines Holiday Trail
DESCRIPTION:Join us downtown for the Downtown St. Catharines Holiday Trail on Thursday\, December 4 and Thursday\, December 18 from 4:30 to 8:00 p.m. Enjoy two Late Night Shopping dates\, plus free hot chocolate\, gift wrapping\, kids crafts\, photo booth\, community caroling\, and 30+ retail shops open late. Complete the Holiday Trail Scavenger Hunt for a chance to win a $500 Downtown Gift Card + a Harlem Globetrotters Family Prize Pack! To see everything happening for the holidays – including promotions\, events\, and the Holiday Trail map – visit MyDowntown.ca/Holidays
URL:https://www.niagaraknowledgeexchange.com/event/downtown-st-catharines-holiday-trail/
LOCATION:Downtown St. Catharines
CATEGORIES:Arts,Community Belonging,Giving & Leadership,Volunteering
ORGANIZER;CN="Downtown St. Catharines Association":MAILTO:dharmi@mydowntown.ca
END:VEVENT
END:VCALENDAR