BEGIN:VCALENDAR
VERSION:2.0
PRODID:-//Niagara Knowledge Exchange - ECPv6.15.18//NONSGML v1.0//EN
CALSCALE:GREGORIAN
METHOD:PUBLISH
X-ORIGINAL-URL:https://www.niagaraknowledgeexchange.com
X-WR-CALDESC:Events for Niagara Knowledge Exchange
REFRESH-INTERVAL;VALUE=DURATION:PT1H
X-Robots-Tag:noindex
X-PUBLISHED-TTL:PT1H
BEGIN:VTIMEZONE
TZID:America/Toronto
BEGIN:DAYLIGHT
TZOFFSETFROM:-0500
TZOFFSETTO:-0400
TZNAME:EDT
DTSTART:20240310T070000
END:DAYLIGHT
BEGIN:STANDARD
TZOFFSETFROM:-0400
TZOFFSETTO:-0500
TZNAME:EST
DTSTART:20241103T060000
END:STANDARD
BEGIN:DAYLIGHT
TZOFFSETFROM:-0500
TZOFFSETTO:-0400
TZNAME:EDT
DTSTART:20250309T070000
END:DAYLIGHT
BEGIN:STANDARD
TZOFFSETFROM:-0400
TZOFFSETTO:-0500
TZNAME:EST
DTSTART:20251102T060000
END:STANDARD
BEGIN:DAYLIGHT
TZOFFSETFROM:-0500
TZOFFSETTO:-0400
TZNAME:EDT
DTSTART:20260308T070000
END:DAYLIGHT
BEGIN:STANDARD
TZOFFSETFROM:-0400
TZOFFSETTO:-0500
TZNAME:EST
DTSTART:20261101T060000
END:STANDARD
BEGIN:DAYLIGHT
TZOFFSETFROM:-0500
TZOFFSETTO:-0400
TZNAME:EDT
DTSTART:20270314T070000
END:DAYLIGHT
BEGIN:STANDARD
TZOFFSETFROM:-0400
TZOFFSETTO:-0500
TZNAME:EST
DTSTART:20271107T060000
END:STANDARD
END:VTIMEZONE
BEGIN:VEVENT
DTSTART;VALUE=DATE:20260404
DTEND;VALUE=DATE:20260406
DTSTAMP:20260422T082950
CREATED:20260330T145114Z
LAST-MODIFIED:20260330T145217Z
UID:24053-1775260800-1775433599@www.niagaraknowledgeexchange.com
SUMMARY:2026 Dodgeball Ontario Provincial Championships
DESCRIPTION:Get ready for Ontario’s biggest dodgeball event of the year! The 2026 Ontario Provincial Championships bring together the province’s best athletes for a weekend of competition\, community\, and incredible energy. Hosted at Canada Games Park\, this state-of-the-art venue sets the stage for top-tier play\, exciting matchups\, and unforgettable moments on and off the court. Following the Official WDBF Dodgeball Ruleset (2022) for foam-style dodgeball\, this event reflects Dodgeball Ontario’s commitment to growing the sport and creating meaningful opportunities for athletes across the province.
URL:https://www.niagaraknowledgeexchange.com/event/2026-dodgeball-ontario-provincial-championships/
LOCATION:Canada Games Park\, 2021 Canada Game Way\, Thorold\, Ontario\, Canada
CATEGORIES:Recreation & Sports
END:VEVENT
BEGIN:VEVENT
DTSTART;TZID=America/Toronto:20260331T183000
DTEND;TZID=America/Toronto:20260331T200000
DTSTAMP:20260422T082950
CREATED:20260323T171226Z
LAST-MODIFIED:20260325T171453Z
UID:24038-1774981800-1774987200@www.niagaraknowledgeexchange.com
SUMMARY:Line Dancing
DESCRIPTION:Join us each month as we connect with community partners for interactive workshops that promote positive brain health\, meaningful connections\, and well-being. \nCome be part of a beginner-friendly evening with Line Dancing in Niagara and learn how to line dance! Please wear comfortable clothing and shoes you can move in. \nTransportation available if needed. \nRegister by calling our office at 905-687-3914 or visit us online at http://www.alzheimerniagara.ca/caregiverwellness
URL:https://www.niagaraknowledgeexchange.com/event/line-dancing/
LOCATION:Trillium United Church\, Ruby Carroll Hall\, 415 Linwell Road\, St. Catharines\, Ontario\, Canada
CATEGORIES:Belonging,Health and Wellness,Recreation & Sports
END:VEVENT
BEGIN:VEVENT
DTSTART;TZID=America/Toronto:20260314T143000
DTEND;TZID=America/Toronto:20260314T170000
DTSTAMP:20260422T082950
CREATED:20260225T160911Z
LAST-MODIFIED:20260225T160939Z
UID:23952-1773498600-1773507600@www.niagaraknowledgeexchange.com
SUMMARY:March Break screening of E.T.
DESCRIPTION:The Home Buying Team is hosting a FREE March Break screening of E.T. on March 14\, 2026 at FirstOntario Performing Arts Centre in St. Catharines. \nFamilies are invited to kick off March Break with a nostalgic\, kid-friendly film experience. The event begins at 2:30pm and is open to the public at no cost.
URL:https://www.niagaraknowledgeexchange.com/event/march-break-screening-of-e-t/
LOCATION:First Ontario Performing Arts Centre\, 250 St. Paul Street\, St. Catharines\, Ontario\, L2r3m2\, Canada
CATEGORIES:Arts,Recreation & Sports
ORGANIZER;CN="The Home Buying Team":MAILTO:hello@yourhomebuyingteamniagara.ca
END:VEVENT
BEGIN:VEVENT
DTSTART;TZID=America/Toronto:20251009T140000
DTEND;TZID=America/Toronto:20251009T153000
DTSTAMP:20260422T082950
CREATED:20250929T215606Z
LAST-MODIFIED:20250929T215606Z
UID:23627-1760018400-1760023800@www.niagaraknowledgeexchange.com
SUMMARY:Bicycle Friendly Community Program Webinar
DESCRIPTION:Have you ever wondered what The Share the Road Cycling Coalition’s Bicycle Friendly Community program is all about? Would you like your community to apply\, but aren’t sure to begin? Are you wondering what the benefits are to the process and the designation? Then this webinar is for you! \nWe’re hosting an information webinar on October 9\, 2025 from 2-3:30 p.m. Joining us for this informative session are: Andy Clarke\, Director of Strategy at Toole Design and former President of the League of American Bicyclists and Coalition Board Members Waterloo Councilor Diane Freeman\, and Dave McLaughlin\, Senior Project Manager\, National Active Transportation Planning and Design Lead Canada\, WSP. \nIn 2010\, The Share the Road Cycling Coalition brought the Bicycle Friendly Community (BFC) program to Canada in partnership with our colleagues at the Washington-based League of American Bicyclists. \nSince the launch\, 45 communities now enjoy a BFC designation\, with 59% of Ontarians living in a Bicycle Friendly community. The benefits to the program are numerous and include awards for progress – and a roadmap with practical advice on how your municipality can become more bicycle-friendly. \n\nTo register for this webinar please email Aleks Duric\, aleksandar@sharetheroad.ca\nYou will receive a link to the session via email.
URL:https://www.niagaraknowledgeexchange.com/event/bicycle-friendly-community-program-webinar/
LOCATION:Virtual
CATEGORIES:Community Safety,Environment,Recreation & Sports
END:VEVENT
BEGIN:VEVENT
DTSTART;TZID=America/Toronto:20250925T080000
DTEND;TZID=America/Toronto:20250925T100000
DTSTAMP:20260422T082950
CREATED:20250817T192639Z
LAST-MODIFIED:20250822T192422Z
UID:23512-1758787200-1758794400@www.niagaraknowledgeexchange.com
SUMMARY:Heart Niagara’s 48th Annual General Meeting
DESCRIPTION:Join us for our 48th Annual General Meeting at the Stone Mill Inn! \nKeynote Address by Bonnie Giampa\, owner and creator of the 8 Week Challenge. \nBonnie will give insight on the merits of adding a healthy diet and exercise to your life! \nLearn more about Bonnie and the 8 Week Challenge by visiting her website here https://8weekchallenge.com/
URL:https://www.niagaraknowledgeexchange.com/event/heart-niagaras-48th-annual-general-meeting/
LOCATION:Stone Mill Inn\, 271 Merritt St\, St. Catharines\, Ontario\, L2T 1K1\, Canada
CATEGORIES:Health and Wellness,Learning & Education,Recreation & Sports
END:VEVENT
BEGIN:VEVENT
DTSTART;VALUE=DATE:20250916
DTEND;VALUE=DATE:20250921
DTSTAMP:20260422T082950
CREATED:20241003T191924Z
LAST-MODIFIED:20250822T192655Z
UID:23031-1757980800-1758412799@www.niagaraknowledgeexchange.com
SUMMARY:The 2025 International Plowing Match and Rural Expo
DESCRIPTION:The International plowing match is coming to West Niagara in the fall of 2025 – September 16 – 20\, 2025 \nThe Ontario Plowmen’s Association promotes agriculture\, agri-business\, ag education and regional tourism through the International Plowing Match (IPM) and Rural Expo. The IPM is held annually in different locations around Ontario. \nThis event was last held in the Niagara region 98 years ago – in 1926 it was held in Niagara Falls and Welland. \n\nThe 2025 event\, to be held in at the Niagara West Agricultural Society grounds in Grassie\, from September 16-20\, 2025\, will feature about 500 exhibitors\, as well as vendors\, musical entertainers and a fully-serviced RV area with at least 500 sites.\nThe anticipated financial impact to the area is $30 million in direct income to the local community.\nThe five-day expo could bring as many as 80\,000 visitors to the area.\nAs many as 10\,000 schoolchildren are also expected to attend the event to learn about farming.\nA main feature is plowing\, with plowmen coming from all across Canada\, and some from the United States and Europe\, to show their plowing skills and compete for prizes in a number of different classifications.\n\nClick on this link for more information: https://www.plowingmatch.org/ipm2025/
URL:https://www.niagaraknowledgeexchange.com/event/the-2025-international-plowing-match-and-rural-expo/
LOCATION:Niagara West Agricultural Society Grounds\, 7402 Mud St. W.\, Grassie\, ON\, L0R1M0\, Canada
CATEGORIES:Community Belonging,Culture and Heritage,Learning & Education,Recreation & Sports
END:VEVENT
BEGIN:VEVENT
DTSTART;TZID=America/Toronto:20250913T080000
DTEND;TZID=America/Toronto:20250913T130000
DTSTAMP:20260422T082950
CREATED:20250728T205050Z
LAST-MODIFIED:20250728T205050Z
UID:23482-1757750400-1757768400@www.niagaraknowledgeexchange.com
SUMMARY:TCAG's Garage Sale - Sports Equipment\, Craft Supplies\, Toys\, and More!
DESCRIPTION:The Thorold Community Activities Group is taking part in the 22nd Annual Thorold Community Wide Garage Sale! \nDrop by the TCAG on Saturday\, September 13th between 8am-1pm to peruse and purchase used sports and workout equipment\, kids toys\, art supplies\, and more. \nPlease bring your own bags\, cash and card accepted.
URL:https://www.niagaraknowledgeexchange.com/event/tcags-garage-sale-sports-equipment-craft-supplies-toys-and-more/
LOCATION:Thorold Community Activities Group\, 131 Richmond St\, Thorold\, Ontario\, l2v 3h3\, Canada
CATEGORIES:Belonging,Giving & Leadership,Health and Wellness,Recreation & Sports,Volunteering
END:VEVENT
BEGIN:VEVENT
DTSTART;TZID=America/Toronto:20250726T110000
DTEND;TZID=America/Toronto:20250726T210000
DTSTAMP:20260422T082950
CREATED:20250714T145151Z
LAST-MODIFIED:20250714T145151Z
UID:23453-1753527600-1753563600@www.niagaraknowledgeexchange.com
SUMMARY:The Davids and DeLaat Downtown St. Catharines Block Party
DESCRIPTION:The Davids & DeLaat Downtown Block Party brought to you by the St. Catharines Downtown Association returns – with more fun than ever! Get ready to shut down the roads and dance\, shop\, dine\, & explore through the streets of Downtown St.Catharines! \nThis FREE event features FUN for the whole FAMILY with:\n– Live music all day\n– Latin Dancing with Latin Dance Niagara\n– Inflatables & games\n– Kids crafts & activities\n– Skateboarding Demos & Lessons\n– St. Catharines Farmers Market open until 3pm with live music\, food\, & games\n– Vendor Market\n– Patios!\n….and SO MUCH MORE! \nHead to MyDowntown.ca/BlockParty to learn more!
URL:https://www.niagaraknowledgeexchange.com/event/the-davids-and-delaat-downtown-st-catharines-block-party/
LOCATION:Downtown St. Catharines – St. Paul Street and James Street\, St. Paul and James Street\, St. Catharines\, Ontario\, Canada
CATEGORIES:Arts,Recreation & Sports
END:VEVENT
BEGIN:VEVENT
DTSTART;VALUE=DATE:20250726
DTEND;VALUE=DATE:20250727
DTSTAMP:20260422T082950
CREATED:20250606T164010Z
LAST-MODIFIED:20250609T165046Z
UID:23392-1753488000-1753574399@www.niagaraknowledgeexchange.com
SUMMARY:Red Ribbon Open
DESCRIPTION:Positive Living Niagara is a registered charity dedicated to fostering a compassionate and inclusive community that supports individuals at risk and affected by HIV\, Hepatitis C\, Sexually Transmitted and Blood-Borne Infections (STBBIs)\, and substance use. Through harm reduction\, prevention\, education\, and person-centered support\, we empower individuals and promote overall well-being across the Niagara region. \nWe are thrilled to introduce the First Annual Red Ribbon Open Charity Golf Event\, an exciting new initiative dedicated to raising vital funds to support our programs and services. This event presents a unique opportunity for businesses like yours to make a meaningful impact while gaining valuable exposure and community recognition. \nFor more information please click here 
URL:https://www.niagaraknowledgeexchange.com/event/red-ribbon-open/
LOCATION:Willodell Golf Club of Niagara\, 10325 Willodell Rd\, Niagara Falls\, ON\, L0S1K0\, Canada
CATEGORIES:Community Belonging,Community Safety,Environment,Giving & Leadership,Health and Wellness,Learning & Education,Recreation & Sports,Work & Employment
ORGANIZER;CN="Postitive Living Niagara":MAILTO:tstorm@positivelivingniagara.com
END:VEVENT
BEGIN:VEVENT
DTSTART;TZID=America/Toronto:20250627T190000
DTEND;TZID=America/Toronto:20250627T210000
DTSTAMP:20260422T082950
CREATED:20250609T170809Z
LAST-MODIFIED:20250609T170809Z
UID:23395-1751050800-1751058000@www.niagaraknowledgeexchange.com
SUMMARY:Positive Living Trivia Night
DESCRIPTION:Hosted by the hilarious David Green (yes\, that David Green from Canada’s Got Talent)\, this event is shaping up to be a night of laughs\, snacks\, good company\, and most importantly — support for the life-changing work Positive Living Niagara does. \nJoin us for Positive Living Niagara’s Trivia Night Fundraiser and put your knowledge to the test! Gather your team\, enjoy a fun-filled evening of friendly competition\, and support a great cause. Whether you’re a trivia whiz or just in it for the laughs\, this event promises excitement\, great food\, and awesome prizes! \nFor more information click here
URL:https://www.niagaraknowledgeexchange.com/event/positive-living-trivia-night/
LOCATION:Spotlight Comedy Club\, 92 St. Paul St\, St. Catharines\, Ontario\, L2R 3M2\, Canada
CATEGORIES:Arts,Belonging,Community Safety,Giving & Leadership,Health and Wellness,Learning & Education,Recreation & Sports,Volunteering,Work & Employment
END:VEVENT
END:VCALENDAR