BEGIN:VCALENDAR
VERSION:2.0
PRODID:-//Niagara Knowledge Exchange - ECPv6.15.18//NONSGML v1.0//EN
CALSCALE:GREGORIAN
METHOD:PUBLISH
X-ORIGINAL-URL:https://www.niagaraknowledgeexchange.com
X-WR-CALDESC:Events for Niagara Knowledge Exchange
REFRESH-INTERVAL;VALUE=DURATION:PT1H
X-Robots-Tag:noindex
X-PUBLISHED-TTL:PT1H
BEGIN:VTIMEZONE
TZID:America/Toronto
BEGIN:DAYLIGHT
TZOFFSETFROM:-0500
TZOFFSETTO:-0400
TZNAME:EDT
DTSTART:20250309T070000
END:DAYLIGHT
BEGIN:STANDARD
TZOFFSETFROM:-0400
TZOFFSETTO:-0500
TZNAME:EST
DTSTART:20251102T060000
END:STANDARD
BEGIN:DAYLIGHT
TZOFFSETFROM:-0500
TZOFFSETTO:-0400
TZNAME:EDT
DTSTART:20260308T070000
END:DAYLIGHT
BEGIN:STANDARD
TZOFFSETFROM:-0400
TZOFFSETTO:-0500
TZNAME:EST
DTSTART:20261101T060000
END:STANDARD
BEGIN:DAYLIGHT
TZOFFSETFROM:-0500
TZOFFSETTO:-0400
TZNAME:EDT
DTSTART:20270314T070000
END:DAYLIGHT
BEGIN:STANDARD
TZOFFSETFROM:-0400
TZOFFSETTO:-0500
TZNAME:EST
DTSTART:20271107T060000
END:STANDARD
END:VTIMEZONE
BEGIN:VEVENT
DTSTART;TZID=America/Toronto:20260307T090000
DTEND;TZID=America/Toronto:20260307T143000
DTSTAMP:20260422T090247
CREATED:20251219T144629Z
LAST-MODIFIED:20260112T150044Z
UID:23813-1772874000-1772893800@www.niagaraknowledgeexchange.com
SUMMARY:Brunch\, Bid & Bowl
DESCRIPTION:Create a community of support for survivors of abuse by joining Birchway as you Brunch\, Bid and Bowl this March 7. Every dollar you raise will provide critical services in our community such as safe shelter\, a 24-hour support line and counselling to help break the cycle of abuse. \nVisit http://www.BrunchBidandBowl.org to learn more! \nFree for teams who meet $1000 fundraising minimum (“Brunch & Bid” tickets $60 adults | $40 Youth 9 and under) \n  \n 
URL:https://www.niagaraknowledgeexchange.com/event/brunch-bid-bowl/
LOCATION:Cataract Bowl\, 7906 Lundy's Lane\, Niagara Falls\, ON\, L2H 1H1\, Canada
CATEGORIES:Belonging,Community Belonging,Giving & Leadership,Volunteering
ORGANIZER;CN="Birchway Niagara":MAILTO:info@birchway.ca
END:VEVENT
BEGIN:VEVENT
DTSTART;VALUE=DATE:20260310
DTEND;VALUE=DATE:20260313
DTSTAMP:20260422T090247
CREATED:20260120T163557Z
LAST-MODIFIED:20260120T163814Z
UID:23819-1773100800-1773359999@www.niagaraknowledgeexchange.com
SUMMARY:Building a Future for All: Connecting Age-Friendly Strategies to Emerging Priorities Conference
DESCRIPTION:The Canadian population is aging rapidly\, making it imperative that our communities are ready to support the well-being and inclusion of older adults. As our collective attention is increasingly fragmented\, we aim to: \n\nHighlight how age-friendly work fits into big picture conversations; and\nEnable attendees to strategically incorporate age-friendly talking points into their conversations.\n\nAttendees will leave with a culture shift – an ability to leverage broader policy or structural level priorities to align with and further local age-friendly initiatives. \nThis event will integrate lived experience\, research\, and practice-based evidence to support age-friendly development. Additionally\, there will be hands-on opportunities to build practical skills to support your own age-friendly work. \nThe event is intended for municipal staff\, community leaders\, people who work with older adults\, policy makers\, older adults\, those in the age-friendly community and beyond. \nThis free three-day virtual event is organized into three themed days: \n\nDay 1: Embracing the Opportunities of an Aging Society: Shifting perspectives\, strengthening economies and supporting care.\nDay 2: Building Age-Friendly Futures: Inclusive communities\, technology\, and climate resilience for all ages.\nDay 3: Supporting Age-Friendly Community Initiatives: Funding and communications.\n\nA note regarding registration:\nAfter completing the form below\, please check your email to confirm and complete your registration. Check spam/junk folders! \nIf you have any issues\, please reach out to info@csah.ca
URL:https://www.niagaraknowledgeexchange.com/event/building-a-future-for-all-connecting-age-friendly-strategies-to-emerging-priorities-conference/
LOCATION:Virtual
CATEGORIES:Community Belonging,Learning & Education
ORGANIZER;CN="The Centre for Studies in Aging & Health":MAILTO:info@csah.ca
END:VEVENT
BEGIN:VEVENT
DTSTART;VALUE=DATE:20260316
DTEND;VALUE=DATE:20260317
DTSTAMP:20260422T090247
CREATED:20260206T181130Z
LAST-MODIFIED:20260226T125257Z
UID:23902-1773619200-1773705599@www.niagaraknowledgeexchange.com
SUMMARY:Accessible Taxi Use in Niagara Survey offered by Niagara Region- Completion Deadline
DESCRIPTION:Note to community service providers in the Niagara region: Please pass on this opportunity for input to your employees\, clients\, or any other contacts. \nNiagara Region wants your input on the availability of accessible private taxis in Niagara. Niagara Region does not offer or provide taxi services directly. We issue business licenses for taxis\, including accessible taxis. Your feedback will help us understand the need for accessible taxis and will guide planning for private accessible taxis. \nWe want to hear from you if: \n\nYou have a disability and use or have used accessible taxis\nYou are a caregiver to someone with a disability who has used accessible taxis\nYou operate or have operated private taxicabs\, including accessible taxicabs\n\nThis online survey will take about 3 minutes to complete. It is open until Monday\, March 16\, 2026. To complete the survey by phone or hard copy\, or if you require another format\, call 905-988-6000 ext. 3252. \nThank you for taking the time to share your experiences.
URL:https://www.niagaraknowledgeexchange.com/event/accessible-taxi-use-in-niagara-survey-offered-by-niagara-region-deadline/
LOCATION:Ontario
CATEGORIES:Community Belonging,Health and Wellness
END:VEVENT
END:VCALENDAR